BEGIN:VCALENDAR
VERSION:2.0
PRODID:-//Sabre//Sabre VObject 4.5.8//EN
CALSCALE:GREGORIAN
BEGIN:VEVENT
UID:criticalmass-one-valència-1665162000
DTSTAMP:20260419T153055Z
SUMMARY:Massa Crítica València 07.10.2022
DTSTART;TZID=Europe/Madrid:20221007T190000
DTEND;TZID=Europe/Madrid:20221007T210000
LOCATION:Plaza de la Virgen
GEO:39.476461;-0.375289
URL;VALUE=URI:https://criticalmass.in/val%C3%A8ncia/2022-10-07
END:VEVENT
END:VCALENDAR
