BEGIN:VCALENDAR
VERSION:2.0
PRODID:-//Sabre//Sabre VObject 4.5.8//EN
CALSCALE:GREGORIAN
BEGIN:VEVENT
UID:criticalmass-one-valència-1641578400
DTSTAMP:20260421T131552Z
SUMMARY:Massa Crítica València 07.01.2022
DTSTART;TZID=Europe/Madrid:20220107T190000
DTEND;TZID=Europe/Madrid:20220107T210000
LOCATION:Plaza de la Virgen
GEO:39.476461;-0.375289
URL;VALUE=URI:https://criticalmass.in/val%C3%A8ncia/2022-01-07
END:VEVENT
END:VCALENDAR
