BEGIN:VCALENDAR
VERSION:2.0
PRODID:-//Sabre//Sabre VObject 4.5.8//EN
CALSCALE:GREGORIAN
BEGIN:VEVENT
UID:criticalmass-one-valència-1638554400
DTSTAMP:20260425T140447Z
SUMMARY:Massa Crítica València 03.12.2021
DTSTART;TZID=Europe/Madrid:20211203T190000
DTEND;TZID=Europe/Madrid:20211203T210000
LOCATION:Plaza de la Virgen
GEO:39.476461;-0.375289
URL;VALUE=URI:https://criticalmass.in/val%C3%A8ncia/2021-12-03
END:VEVENT
END:VCALENDAR
