BEGIN:VCALENDAR
VERSION:2.0
PRODID:-//Sabre//Sabre VObject 4.5.8//EN
CALSCALE:GREGORIAN
BEGIN:VEVENT
UID:criticalmass-one-valència-1636135200
DTSTAMP:20260424T065427Z
SUMMARY:Massa Crítica València 05.11.2021
DTSTART;TZID=Europe/Madrid:20211105T190000
DTEND;TZID=Europe/Madrid:20211105T210000
LOCATION:Plaza de la Virgen
GEO:39.476461;-0.375289
URL;VALUE=URI:https://criticalmass.in/val%C3%A8ncia/2021-11-05
END:VEVENT
END:VCALENDAR
