BEGIN:VCALENDAR
VERSION:2.0
PRODID:-//Sabre//Sabre VObject 4.5.8//EN
CALSCALE:GREGORIAN
BEGIN:VEVENT
UID:criticalmass-one-valència-1617375600
DTSTAMP:20260419T152002Z
SUMMARY:Massa Crítica València 02.04.2021
DTSTART;TZID=Europe/Madrid:20210402T170000
DTEND;TZID=Europe/Madrid:20210402T190000
LOCATION:Plaza de la Virgen
GEO:39.476461;-0.375289
URL;VALUE=URI:https://criticalmass.in/val%C3%A8ncia/2021-04-02
END:VEVENT
END:VCALENDAR
