BEGIN:VCALENDAR
VERSION:2.0
PRODID:-//Sabre//Sabre VObject 4.5.8//EN
CALSCALE:GREGORIAN
BEGIN:VEVENT
UID:criticalmass-one-valència-1609524000
DTSTAMP:20260419T152857Z
SUMMARY:Massa Crítica València 01.01.2021
DTSTART;TZID=Europe/Madrid:20210101T190000
DTEND;TZID=Europe/Madrid:20210101T210000
LOCATION:Plaza de la Virgen
GEO:39.476461;-0.375289
URL;VALUE=URI:https://criticalmass.in/val%C3%A8ncia/2021-01-01
END:VEVENT
END:VCALENDAR
