BEGIN:VCALENDAR
VERSION:2.0
PRODID:-//Sabre//Sabre VObject 4.5.8//EN
CALSCALE:GREGORIAN
BEGIN:VEVENT
UID:criticalmass-one-valència-1520013600
DTSTAMP:20260419T152833Z
SUMMARY:Massa Crítica València 02.03.2018
DTSTART;TZID=Europe/Madrid:20180302T190000
DTEND;TZID=Europe/Madrid:20180302T210000
LOCATION:Plaza de la Virgen
GEO:39.476461;-0.375289
URL;VALUE=URI:https://criticalmass.in/val%C3%A8ncia/2018-03-02
END:VEVENT
END:VCALENDAR
