BEGIN:VCALENDAR
VERSION:2.0
PRODID:-//Sabre//Sabre VObject 4.5.8//EN
CALSCALE:GREGORIAN
BEGIN:VEVENT
UID:criticalmass-one-valència-1501866000
DTSTAMP:20260421T091732Z
SUMMARY:Massa Crítica València 04.08.2017
DTSTART;TZID=Europe/Madrid:20170804T190000
DTEND;TZID=Europe/Madrid:20170804T210000
LOCATION:Plaza de la Virgen
GEO:39.476461;-0.375289
URL;VALUE=URI:https://criticalmass.in/val%C3%A8ncia/2017-08-04
END:VEVENT
END:VCALENDAR
