BEGIN:VCALENDAR
VERSION:2.0
PRODID:-//Sabre//Sabre VObject 4.5.8//EN
CALSCALE:GREGORIAN
BEGIN:VEVENT
UID:criticalmass-one-valència-1478271600
DTSTAMP:20260424T181108Z
SUMMARY:Massa Crítica València 04.11.2016
DTSTART;TZID=Europe/Madrid:20161104T160000
DTEND;TZID=Europe/Madrid:20161104T180000
LOCATION:Plaza de la Virgen
GEO:39.476461;-0.375289
URL;VALUE=URI:https://criticalmass.in/val%C3%A8ncia/2016-11-04
END:VEVENT
END:VCALENDAR
