BEGIN:VCALENDAR
VERSION:2.0
PRODID:-//Sabre//Sabre VObject 4.5.8//EN
CALSCALE:GREGORIAN
BEGIN:VEVENT
UID:criticalmass-one-valència-1464973200
DTSTAMP:20260422T114119Z
SUMMARY:Massa Crítica València 03.06.2016
DTSTART;TZID=Europe/Madrid:20160603T190000
DTEND;TZID=Europe/Madrid:20160603T210000
LOCATION:Plaza de la Virgen
GEO:39.476461;-0.375289
URL;VALUE=URI:https://criticalmass.in/val%C3%A8ncia/2016-06-03
END:VEVENT
END:VCALENDAR
