BEGIN:VCALENDAR
VERSION:2.0
PRODID:-//Sabre//Sabre VObject 4.5.8//EN
CALSCALE:GREGORIAN
BEGIN:VEVENT
UID:criticalmass-one-ulm-neu-ulm-1747486800
DTSTAMP:20260422T124951Z
SUMMARY:Kidical Mass Ulm 17.05.2025
DESCRIPTION:Vor dem Start auf dem Münsterplatz können die Räder geschmü
 ckt werden. Dann geht es auf den großen Straßen durch Ulm\, geschützt d
 urch die Polizei. Die Strecke ist max. 5 Kilometer lang. Das Ende ist in d
 er Friedrichsau. Picknick und Picknickdecken nicht vergessen.
DTSTART;TZID=Europe/Berlin:20250517T150000
DTEND;TZID=Europe/Berlin:20250517T170000
LOCATION:Ulm Münsterplatz
GEO:48.397628;9.991655
URL;VALUE=URI:https://criticalmass.in/ulm-neu-ulm/kidical-mass-ulm-neu-ulm-
 mai-2025
END:VEVENT
END:VCALENDAR
