BEGIN:VCALENDAR
VERSION:2.0
PRODID:-//Sabre//Sabre VObject 4.5.8//EN
CALSCALE:GREGORIAN
BEGIN:VEVENT
UID:criticalmass-one-ulm-neu-ulm-1714914000
DTSTAMP:20260422T170629Z
SUMMARY:Kidical Mass Ulm 05.05.2024
DESCRIPTION:Gemeinsames Schmücken der Räder am Start
DTSTART;TZID=Europe/Berlin:20240505T150000
DTEND;TZID=Europe/Berlin:20240505T170000
LOCATION:Ulm Münsterplatz Ulm
GEO:48.397628;9.991655
URL;VALUE=URI:https://criticalmass.in/ulm-neu-ulm/kidical-mass-ulm-neu-ulm-
 mai-2024
END:VEVENT
END:VCALENDAR
