BEGIN:VCALENDAR
VERSION:2.0
PRODID:-//Sabre//Sabre VObject 4.5.8//EN
CALSCALE:GREGORIAN
BEGIN:VEVENT
UID:criticalmass-one-ulm-neu-ulm-1753461000
DTSTAMP:20260424T113239Z
SUMMARY:Critical Mass Ulm und NeuUlm 25.07.2025
DTSTART;TZID=Europe/Berlin:20250725T183000
DTEND;TZID=Europe/Berlin:20250725T203000
LOCATION:Münsterplatz Ulm
GEO:48.398309;9.990993
URL;VALUE=URI:https://criticalmass.in/ulm-neu-ulm/2025-07-25
END:VEVENT
END:VCALENDAR
