BEGIN:VCALENDAR
VERSION:2.0
PRODID:-//Sabre//Sabre VObject 4.5.8//EN
CALSCALE:GREGORIAN
BEGIN:VEVENT
UID:criticalmass-one-ulm-neu-ulm-1725035400
DTSTAMP:20260423T014545Z
SUMMARY:Critical Mass UlmNeuUlm 30.08.2024
DTSTART;TZID=Europe/Berlin:20240830T183000
DTEND;TZID=Europe/Berlin:20240830T203000
LOCATION:Münsterplatz Ulm
GEO:48.398309;9.990993
URL;VALUE=URI:https://criticalmass.in/ulm-neu-ulm/2024-08-30
END:VEVENT
END:VCALENDAR
