BEGIN:VCALENDAR
VERSION:2.0
PRODID:-//Sabre//Sabre VObject 4.5.8//EN
CALSCALE:GREGORIAN
BEGIN:VEVENT
UID:criticalmass-one-ulm-neu-ulm-1722011400
DTSTAMP:20260422T224936Z
SUMMARY:Critical Mass UlmNeuUlm 26.07.2024
DTSTART;TZID=Europe/Berlin:20240726T183000
DTEND;TZID=Europe/Berlin:20240726T203000
LOCATION:Münsterplatz Ulm
GEO:48.398309;9.990993
URL;VALUE=URI:https://criticalmass.in/ulm-neu-ulm/2024-07-26
END:VEVENT
END:VCALENDAR
