BEGIN:VCALENDAR
VERSION:2.0
PRODID:-//Sabre//Sabre VObject 4.5.8//EN
CALSCALE:GREGORIAN
BEGIN:VEVENT
UID:criticalmass-one-ulm-neu-ulm-1711733400
DTSTAMP:20260423T065017Z
SUMMARY:Critical Mass UlmNeuUlm 29.03.2024
DTSTART;TZID=Europe/Berlin:20240329T183000
DTEND;TZID=Europe/Berlin:20240329T203000
LOCATION:Münsterplatz Ulm
GEO:48.398309;9.990993
URL;VALUE=URI:https://criticalmass.in/ulm-neu-ulm/2024-03-29
END:VEVENT
END:VCALENDAR
