BEGIN:VCALENDAR
VERSION:2.0
PRODID:-//Sabre//Sabre VObject 4.5.8//EN
CALSCALE:GREGORIAN
BEGIN:VEVENT
UID:criticalmass-one-ulm-neu-ulm-1690561800
DTSTAMP:20260423T065011Z
SUMMARY:Critical Mass UlmNeuUlm 28.07.2023
DTSTART;TZID=Europe/Berlin:20230728T183000
DTEND;TZID=Europe/Berlin:20230728T203000
LOCATION:Münsterplatz Ulm
GEO:48.398309;9.990993
URL;VALUE=URI:https://criticalmass.in/ulm-neu-ulm/2023-07-28
END:VEVENT
END:VCALENDAR
