BEGIN:VCALENDAR
VERSION:2.0
PRODID:-//Sabre//Sabre VObject 4.5.8//EN
CALSCALE:GREGORIAN
BEGIN:VEVENT
UID:criticalmass-one-ulm-neu-ulm-1653669000
DTSTAMP:20260423T143729Z
SUMMARY:Critical Mass UlmNeuUlm 27.05.2022
DTSTART;TZID=Europe/Berlin:20220527T183000
DTEND;TZID=Europe/Berlin:20220527T203000
LOCATION:Münsterplatz Ulm
GEO:48.398309;9.990993
URL;VALUE=URI:https://criticalmass.in/ulm-neu-ulm/2022-05-27
END:VEVENT
END:VCALENDAR
