BEGIN:VCALENDAR
VERSION:2.0
PRODID:-//Sabre//Sabre VObject 4.5.8//EN
CALSCALE:GREGORIAN
BEGIN:VEVENT
UID:criticalmass-one-ulm-neu-ulm-1648229400
DTSTAMP:20260423T113256Z
SUMMARY:Critical Mass UlmNeuUlm 25.03.2022
DTSTART;TZID=Europe/Berlin:20220325T183000
DTEND;TZID=Europe/Berlin:20220325T203000
LOCATION:Münsterplatz Ulm
GEO:48.398309;9.990993
URL;VALUE=URI:https://criticalmass.in/ulm-neu-ulm/2022-03-25
END:VEVENT
END:VCALENDAR
