BEGIN:VCALENDAR
VERSION:2.0
PRODID:-//Sabre//Sabre VObject 4.5.8//EN
CALSCALE:GREGORIAN
BEGIN:VEVENT
UID:criticalmass-one-ulm-neu-ulm-1637947800
DTSTAMP:20260422T211858Z
SUMMARY:Critical Mass Ulm 26.11.2021
DTSTART;TZID=Europe/Berlin:20211126T183000
DTEND;TZID=Europe/Berlin:20211126T203000
LOCATION:Hans-und-Sophie-Scholl-Platz Ulm
GEO:48.397414;9.993507
URL;VALUE=URI:https://criticalmass.in/ulm-neu-ulm/2021-11-26
END:VEVENT
END:VCALENDAR
