BEGIN:VCALENDAR
VERSION:2.0
PRODID:-//Sabre//Sabre VObject 4.5.8//EN
CALSCALE:GREGORIAN
BEGIN:VEVENT
UID:criticalmass-one-ulm-neu-ulm-1635525000
DTSTAMP:20260423T014706Z
SUMMARY:Critical Mass UlmNeuUlm 29.10.2021
DTSTART;TZID=Europe/Berlin:20211029T183000
DTEND;TZID=Europe/Berlin:20211029T203000
LOCATION:Münsterplatz Ulm
GEO:48.398309;9.990993
URL;VALUE=URI:https://criticalmass.in/ulm-neu-ulm/2021-10-29
END:VEVENT
END:VCALENDAR
