BEGIN:VCALENDAR
VERSION:2.0
PRODID:-//Sabre//Sabre VObject 4.5.8//EN
CALSCALE:GREGORIAN
BEGIN:VEVENT
UID:criticalmass-one-ulm-neu-ulm-1624638600
DTSTAMP:20260424T193303Z
SUMMARY:Critical Mass UlmNeuUlm 25.06.2021
DTSTART;TZID=Europe/Berlin:20210625T183000
DTEND;TZID=Europe/Berlin:20210625T203000
LOCATION:Münsterplatz Ulm
GEO:48.398309;9.990993
URL;VALUE=URI:https://criticalmass.in/ulm-neu-ulm/2021-06-25
END:VEVENT
END:VCALENDAR
