BEGIN:VCALENDAR
VERSION:2.0
PRODID:-//Sabre//Sabre VObject 4.5.8//EN
CALSCALE:GREGORIAN
BEGIN:VEVENT
UID:criticalmass-one-ulm-neu-ulm-1604079000
DTSTAMP:20260422T133607Z
SUMMARY:Critical Mass UlmNeuUlm 30.10.2020
DTSTART;TZID=Europe/Berlin:20201030T183000
DTEND;TZID=Europe/Berlin:20201030T203000
LOCATION:Münsterplatz Ulm
GEO:48.398309;9.990993
URL;VALUE=URI:https://criticalmass.in/ulm-neu-ulm/2020-10-30
END:VEVENT
END:VCALENDAR
