BEGIN:VCALENDAR
VERSION:2.0
PRODID:-//Sabre//Sabre VObject 4.5.8//EN
CALSCALE:GREGORIAN
BEGIN:VEVENT
UID:criticalmass-one-ulm-neu-ulm-1577467800
DTSTAMP:20260423T014412Z
SUMMARY:Critical Mass UlmNeuUlm 27.12.2019
DTSTART;TZID=Europe/Berlin:20191227T183000
DTEND;TZID=Europe/Berlin:20191227T203000
LOCATION:Münsterplatz Ulm
URL;VALUE=URI:https://criticalmass.in/ulm-neu-ulm/2019-12-27
END:VEVENT
END:VCALENDAR
