BEGIN:VCALENDAR
VERSION:2.0
PRODID:-//Sabre//Sabre VObject 4.5.8//EN
CALSCALE:GREGORIAN
BEGIN:VEVENT
UID:criticalmass-one-ulm-neu-ulm-1550856600
DTSTAMP:20260423T193141Z
SUMMARY:Critical Mass UlmNeuUlm 22.02.2019
DTSTART;TZID=Europe/Berlin:20190222T183000
DTEND;TZID=Europe/Berlin:20190222T203000
LOCATION:Münsterplatz Ulm
URL;VALUE=URI:https://criticalmass.in/ulm-neu-ulm/2019-02-22
END:VEVENT
END:VCALENDAR
