BEGIN:VCALENDAR
VERSION:2.0
PRODID:-//Sabre//Sabre VObject 4.5.8//EN
CALSCALE:GREGORIAN
BEGIN:VEVENT
UID:criticalmass-one-ulm-neu-ulm-1538152200
DTSTAMP:20260422T163951Z
SUMMARY:Critical Mass Ulm/Neu-Ulm
DTSTART;TZID=Europe/Berlin:20180928T183000
DTEND;TZID=Europe/Berlin:20180928T203000
LOCATION:Münsterplatz
URL;VALUE=URI:https://criticalmass.in/ulm-neu-ulm/2018-09-28
END:VEVENT
END:VCALENDAR
