BEGIN:VCALENDAR
VERSION:2.0
PRODID:-//Sabre//Sabre VObject 4.5.8//EN
CALSCALE:GREGORIAN
BEGIN:VEVENT
UID:criticalmass-one-tulsa-1769886000
DTSTAMP:20260423T055357Z
SUMMARY:Alex Pretti Memorial Ride — Gregor
DESCRIPTION:Meet at 1:00pm. Roll out at 1:30. All they have asked is if you
 're driving in to join us\, please park on the street so the non-riding cu
 stomers can get in and out easily.
DTSTART;TZID=America/Chicago:20260131T130000
DTEND;TZID=America/Chicago:20260131T150000
LOCATION:Tulsa
GEO:36.138894;-95.987214
URL;VALUE=URI:https://criticalmass.in/tulsa/alex-pretti-memorial-ride-tulsa
 -2026-01-31
END:VEVENT
END:VCALENDAR
