BEGIN:VCALENDAR
VERSION:2.0
PRODID:-//Sabre//Sabre VObject 4.5.8//EN
CALSCALE:GREGORIAN
BEGIN:VEVENT
UID:criticalmass-one-tubingen-1651327200
DTSTAMP:20260423T195716Z
SUMMARY:Kidical Mass Tübingen April 2022
DTSTART;TZID=Europe/Berlin:20220430T160000
DTEND;TZID=Europe/Berlin:20220430T180000
LOCATION:Universitätsbibliothek Tübingen
GEO:48.524677;9.062905
URL;VALUE=URI:https://criticalmass.in/tubingen/kidical-mass-tuebingen-april
 -2022
END:VEVENT
END:VCALENDAR
