BEGIN:VCALENDAR
VERSION:2.0
PRODID:-//Sabre//Sabre VObject 4.5.8//EN
CALSCALE:GREGORIAN
BEGIN:VEVENT
UID:criticalmass-one-tubingen-1600522200
DTSTAMP:20260422T215119Z
SUMMARY:Kidical Mass Tübingen
DTSTART;TZID=Europe/Berlin:20200919T153000
DTEND;TZID=Europe/Berlin:20200919T173000
LOCATION:Unibibliothek Tübingen
GEO:48.525388;9.061618
URL;VALUE=URI:https://criticalmass.in/tubingen/kidical-mass-tubingen-septem
 ber-2020
END:VEVENT
END:VCALENDAR
