BEGIN:VCALENDAR
VERSION:2.0
PRODID:-//Sabre//Sabre VObject 4.5.8//EN
CALSCALE:GREGORIAN
BEGIN:VEVENT
UID:criticalmass-one-tubingen-1653775200
DTSTAMP:20260423T125051Z
SUMMARY:Kidical Mass Tübingen 29.05.2022
DTSTART;TZID=Europe/Berlin:20220529T000000
DTEND;TZID=Europe/Berlin:20220529T020000
LOCATION:Infos folgen
URL;VALUE=URI:https://criticalmass.in/tubingen/kidical-mass-tubingen-mai-20
 22
END:VEVENT
END:VCALENDAR
