BEGIN:VCALENDAR
VERSION:2.0
PRODID:-//Sabre//Sabre VObject 4.5.8//EN
CALSCALE:GREGORIAN
BEGIN:VEVENT
UID:criticalmass-one-truckee-1769871600
DTSTAMP:20260422T103451Z
SUMMARY:Alex Pretti Memorial Ride — Friends in Truckee
DESCRIPTION:Meet at 3 p.m. on Saturday\; roll out at 3:30. Chill ride acros
 s town to Donner Lake and back.
DTSTART;TZID=America/Los_Angeles:20260131T070000
DTEND;TZID=America/Los_Angeles:20260131T090000
LOCATION:Truckee
GEO:39.325980;-120.187476
URL;VALUE=URI:https://criticalmass.in/truckee/alex-pretti-memorial-ride-tru
 ckee-2026-01-31
END:VEVENT
END:VCALENDAR
