BEGIN:VCALENDAR
VERSION:2.0
PRODID:-//Sabre//Sabre VObject 4.5.8//EN
CALSCALE:GREGORIAN
BEGIN:VEVENT
UID:criticalmass-one-trier-1632042000
DTSTAMP:20260425T232747Z
SUMMARY:Kidical Mass Trier 19.09.2021
DTSTART;TZID=Europe/Berlin:20210919T110000
DTEND;TZID=Europe/Berlin:20210919T130000
LOCATION:Konstantin-Basilika
GEO:49.753998;6.642737
URL;VALUE=URI:https://criticalmass.in/trier/kidical-mass-trier-september-20
 21
END:VEVENT
END:VCALENDAR
