BEGIN:VCALENDAR
VERSION:2.0
PRODID:-//Sabre//Sabre VObject 4.5.8//EN
CALSCALE:GREGORIAN
BEGIN:VEVENT
UID:criticalmass-one-trier-1600516800
DTSTAMP:20260426T022035Z
SUMMARY:Kidical Mass Trier
DTSTART;TZID=Europe/Berlin:20200919T140000
DTEND;TZID=Europe/Berlin:20200919T160000
LOCATION:Europahalle
GEO:49.751494;6.636858
URL;VALUE=URI:https://criticalmass.in/trier/kidical-mass-trier-september-20
 20
END:VEVENT
END:VCALENDAR
