BEGIN:VCALENDAR
VERSION:2.0
PRODID:-//Sabre//Sabre VObject 4.5.8//EN
CALSCALE:GREGORIAN
BEGIN:VEVENT
UID:criticalmass-one-trier-1743183000
DTSTAMP:20260425T221500Z
SUMMARY:Critical Mass Trier 28.03.2025
DTSTART;TZID=Europe/Berlin:20250328T183000
DTEND;TZID=Europe/Berlin:20250328T203000
LOCATION:Viehmarktplatz
GEO:49.752367;6.637637
URL;VALUE=URI:https://criticalmass.in/trier/2025-03-28
END:VEVENT
END:VCALENDAR
