BEGIN:VCALENDAR
VERSION:2.0
PRODID:-//Sabre//Sabre VObject 4.5.8//EN
CALSCALE:GREGORIAN
BEGIN:VEVENT
UID:criticalmass-one-trier-1719592200
DTSTAMP:20260425T221216Z
SUMMARY:Critical Mass Trier 28.06.2024
DTSTART;TZID=Europe/Berlin:20240628T183000
DTEND;TZID=Europe/Berlin:20240628T203000
LOCATION:Viehmarktplatz
GEO:49.752367;6.637637
URL;VALUE=URI:https://criticalmass.in/trier/2024-06-28
END:VEVENT
END:VCALENDAR
