BEGIN:VCALENDAR
VERSION:2.0
PRODID:-//Sabre//Sabre VObject 4.5.8//EN
CALSCALE:GREGORIAN
BEGIN:VEVENT
UID:criticalmass-one-trier-1540571400
DTSTAMP:20260426T021842Z
SUMMARY:Critical Mass Trier 26.10.2018
DTSTART;TZID=Europe/Berlin:20181026T183000
DTEND;TZID=Europe/Berlin:20181026T203000
LOCATION:Viehmarktplatz
GEO:49.752367;6.637637
URL;VALUE=URI:https://criticalmass.in/trier/2018-10-26
END:VEVENT
END:VCALENDAR
