BEGIN:VCALENDAR
VERSION:2.0
PRODID:-//Sabre//Sabre VObject 4.5.8//EN
CALSCALE:GREGORIAN
BEGIN:VEVENT
UID:criticalmass-one-trier-1498840200
DTSTAMP:20260424T225921Z
SUMMARY:Critical Mass Trier 30.06.2017
DTSTART;TZID=Europe/Berlin:20170630T183000
DTEND;TZID=Europe/Berlin:20170630T203000
LOCATION:Viehmarktplatz
GEO:49.752367;6.637637
URL;VALUE=URI:https://criticalmass.in/trier/2017-06-30
END:VEVENT
END:VCALENDAR
