BEGIN:VCALENDAR
VERSION:2.0
PRODID:-//Sabre//Sabre VObject 4.5.8//EN
CALSCALE:GREGORIAN
BEGIN:VEVENT
UID:criticalmass-one-treptow-kopenick-1754672400
DTSTAMP:20260422T172449Z
SUMMARY:Critical Mass Treptow-Köpenick 08.08.2025
DTSTART;TZID=Europe/Berlin:20250808T190000
DTEND;TZID=Europe/Berlin:20250808T210000
LOCATION:S-Bahnhof Schönweide
GEO:52.454440;13.509257
URL;VALUE=URI:https://criticalmass.in/treptow-kopenick/2025-08-08
END:VEVENT
END:VCALENDAR
