BEGIN:VCALENDAR
VERSION:2.0
PRODID:-//Sabre//Sabre VObject 4.5.8//EN
CALSCALE:GREGORIAN
BEGIN:VEVENT
UID:criticalmass-one-treptow-kopenick-1697216400
DTSTAMP:20260421T032302Z
SUMMARY:Critical Mass Treptow-Köpenick 13.10.2023
DTSTART;TZID=Europe/Berlin:20231013T190000
DTEND;TZID=Europe/Berlin:20231013T210000
LOCATION:S-Bahnhof Schönweide
GEO:52.454440;13.509257
URL;VALUE=URI:https://criticalmass.in/treptow-kopenick/2023-10-13
END:VEVENT
END:VCALENDAR
