BEGIN:VCALENDAR
VERSION:2.0
PRODID:-//Sabre//Sabre VObject 4.5.8//EN
CALSCALE:GREGORIAN
BEGIN:VEVENT
UID:criticalmass-one-treptow-kopenick-1694192400
DTSTAMP:20260420T225550Z
SUMMARY:Critical Mass Treptow-Köpenick 08.09.2023
DTSTART;TZID=Europe/Berlin:20230908T190000
DTEND;TZID=Europe/Berlin:20230908T210000
LOCATION:S-Bahnhof Schönweide
GEO:52.454440;13.509257
URL;VALUE=URI:https://criticalmass.in/treptow-kopenick/2023-09-08
END:VEVENT
END:VCALENDAR
