BEGIN:VCALENDAR
VERSION:2.0
PRODID:-//Sabre//Sabre VObject 4.5.8//EN
CALSCALE:GREGORIAN
BEGIN:VEVENT
UID:criticalmass-one-treptow-kopenick-1670608800
DTSTAMP:20260421T032321Z
SUMMARY:Critical Mass Treptow-Köpenick 09.12.2022
DTSTART;TZID=Europe/Berlin:20221209T190000
DTEND;TZID=Europe/Berlin:20221209T210000
LOCATION:S-Bahnhof Schönweide
GEO:52.454440;13.509257
URL;VALUE=URI:https://criticalmass.in/treptow-kopenick/2022-12-09
END:VEVENT
END:VCALENDAR
