BEGIN:VCALENDAR
VERSION:2.0
PRODID:-//Sabre//Sabre VObject 4.5.8//EN
CALSCALE:GREGORIAN
BEGIN:VEVENT
UID:criticalmass-one-treptow-kopenick-1625850000
DTSTAMP:20260420T225528Z
SUMMARY:Critical Mass Treptow-Köpenick 09.07.2021
DTSTART;TZID=Europe/Berlin:20210709T190000
DTEND;TZID=Europe/Berlin:20210709T210000
LOCATION:S-Bahnhof Schönweide
GEO:52.454440;13.509257
URL;VALUE=URI:https://criticalmass.in/treptow-kopenick/2021-07-09
END:VEVENT
END:VCALENDAR
