BEGIN:VCALENDAR
VERSION:2.0
PRODID:-//Sabre//Sabre VObject 4.5.8//EN
CALSCALE:GREGORIAN
BEGIN:VEVENT
UID:criticalmass-one-treptow-kopenick-1623430800
DTSTAMP:20260423T103831Z
SUMMARY:Critical Mass Treptow-Köpenick 11.06.2021
DTSTART;TZID=Europe/Berlin:20210611T190000
DTEND;TZID=Europe/Berlin:20210611T210000
LOCATION:S-Bahnhof Schönweide
GEO:52.454440;13.509257
URL;VALUE=URI:https://criticalmass.in/treptow-kopenick/2021-06-11
END:VEVENT
END:VCALENDAR
