BEGIN:VCALENDAR
VERSION:2.0
PRODID:-//Sabre//Sabre VObject 4.5.8//EN
CALSCALE:GREGORIAN
BEGIN:VEVENT
UID:criticalmass-one-treptow-kopenick-1617980400
DTSTAMP:20260420T213051Z
SUMMARY:Critical Mass Treptow-Köpenick 09.04.2021
DTSTART;TZID=Europe/Berlin:20210409T170000
DTEND;TZID=Europe/Berlin:20210409T190000
LOCATION:S-Bahnhof Schönweide
GEO:52.454440;13.509257
URL;VALUE=URI:https://criticalmass.in/treptow-kopenick/2021-04-09
END:VEVENT
END:VCALENDAR
