BEGIN:VCALENDAR
VERSION:2.0
PRODID:-//Sabre//Sabre VObject 4.5.8//EN
CALSCALE:GREGORIAN
BEGIN:VEVENT
UID:criticalmass-one-treptow-kopenick-1613152800
DTSTAMP:20260420T225440Z
SUMMARY:Critical Mass Treptow-Köpenick 12.02.2021
DTSTART;TZID=Europe/Berlin:20210212T190000
DTEND;TZID=Europe/Berlin:20210212T210000
LOCATION:S-Bahnhof Schönweide
GEO:52.454440;13.509257
URL;VALUE=URI:https://criticalmass.in/treptow-kopenick/2021-02-12
END:VEVENT
END:VCALENDAR
