BEGIN:VCALENDAR
VERSION:2.0
PRODID:-//Sabre//Sabre VObject 4.5.8//EN
CALSCALE:GREGORIAN
BEGIN:VEVENT
UID:criticalmass-one-treptow-kopenick-1610128800
DTSTAMP:20260421T002329Z
SUMMARY:Critical Mass Treptow-Köpenick 08.01.2021
DTSTART;TZID=Europe/Berlin:20210108T190000
DTEND;TZID=Europe/Berlin:20210108T210000
LOCATION:S-Bahnhof Schönweide
GEO:52.454440;13.509257
URL;VALUE=URI:https://criticalmass.in/treptow-kopenick/2021-01-08
END:VEVENT
END:VCALENDAR
