BEGIN:VCALENDAR
VERSION:2.0
PRODID:-//Sabre//Sabre VObject 4.5.8//EN
CALSCALE:GREGORIAN
BEGIN:VEVENT
UID:criticalmass-one-town-of-schley-1769864400
DTSTAMP:20260421T205524Z
SUMMARY:Alex Pretti Memorial Ride — Shane Stuard and Friends
DESCRIPTION:Meet at the Prairie Dell County Park this Saturday at 1 p.m. 
DTSTART;TZID=America/Chicago:20260131T070000
DTEND;TZID=America/Chicago:20260131T090000
LOCATION:Prairie Dell County Park\, Town of Schley
GEO:45.255493;-89.561810
URL;VALUE=URI:https://criticalmass.in/town-of-schley/alex-pretti-memorial-r
 ide-town-of-schley-2026-01-31
END:VEVENT
END:VCALENDAR
