BEGIN:VCALENDAR
VERSION:2.0
PRODID:-//Sabre//Sabre VObject 4.5.8//EN
CALSCALE:GREGORIAN
BEGIN:VEVENT
UID:criticalmass-one-town-of-cleveland-1769886000
DTSTAMP:20260421T134409Z
SUMMARY:Alex Pretti Memorial Ride — Jerry Ferrell
DESCRIPTION:Hickory Ridge Trail (Fat bike on snow)\; 1/31 1:00\, 1:30 roll.
  (Bon fire after)
DTSTART;TZID=America/Chicago:20260131T130000
DTEND;TZID=America/Chicago:20260131T150000
LOCATION:Hickory Ridge Trail\, Town of Cleveland
GEO:45.171279;-91.340075
URL;VALUE=URI:https://criticalmass.in/town-of-cleveland/alex-pretti-memoria
 l-ride-town-of-cleveland-2026-01-31
END:VEVENT
END:VCALENDAR
