BEGIN:VCALENDAR
VERSION:2.0
PRODID:-//Sabre//Sabre VObject 4.5.8//EN
CALSCALE:GREGORIAN
BEGIN:VEVENT
UID:criticalmass-one-toulouse-1774634400
DTSTAMP:20260426T005857Z
SUMMARY:Veloroution Toulouse 27.03.2026
DTSTART;TZID=Europe/Berlin:20260327T190000
DTEND;TZID=Europe/Berlin:20260327T210000
LOCATION:Place du Capitole
GEO:43.604377;1.441212
URL;VALUE=URI:https://criticalmass.in/toulouse/2026-03-27
END:VEVENT
END:VCALENDAR
