BEGIN:VCALENDAR
VERSION:2.0
PRODID:-//Sabre//Sabre VObject 4.5.8//EN
CALSCALE:GREGORIAN
BEGIN:VEVENT
UID:criticalmass-one-toulouse-1772215200
DTSTAMP:20260426T022052Z
SUMMARY:Veloroution Toulouse 27.02.2026
DTSTART;TZID=Europe/Berlin:20260227T190000
DTEND;TZID=Europe/Berlin:20260227T210000
LOCATION:Place du Capitole
GEO:43.604377;1.441212
URL;VALUE=URI:https://criticalmass.in/toulouse/2026-02-27
END:VEVENT
END:VCALENDAR
